BEGIN:VCALENDAR
VERSION:2.0
PRODID:-//Start-up Ostwürttemberg - ECPv4.6.14.1//NONSGML v1.0//EN
CALSCALE:GREGORIAN
METHOD:PUBLISH
X-WR-CALNAME:Start-up Ostwürttemberg
X-ORIGINAL-URL:https://www.startup-wow.de
X-WR-CALDESC:Veranstaltungen für Start-up Ostwürttemberg
BEGIN:VEVENT
DTSTART;TZID=Europe/Berlin:20210929T180000
DTEND;TZID=Europe/Berlin:20210929T200000
DTSTAMP:20260421T193104
CREATED:20210913T075439Z
LAST-MODIFIED:20210913T075439Z
UID:2994-1632938400-1632945600@www.startup-wow.de
SUMMARY:Start-up WOW Connect aus Aalen
DESCRIPTION:Liebe Start-ups\, Start-up-Begeisterte und Interessierte\, \nnach der Sommerpause geht es mit unserer beliebten Veranstaltungsreihe „Start-up WOW Connect“ weiter: \nMittwoch\, 29. September 2021 um 18:00 Uhr als Online-Veranstaltung via Zoom \nWir laden Euch herzlich dazu ein\, vier innovative Gründungsvorhaben und Start-ups und deren Geschäftsideen näher kennen zu lernen – dieses Mal wieder aus dem INNO-Z. \nFolgendes Programm mit Kurzpräsentationen (je ca. 10 Min.) wartet auf Euch: \n\nBegrüßung\nPräsentation Vollstack – App- und Web-Entwicklungsdienstleistungen für Unternehmen\, Betriebe und Restaurants\nPräsentation Nextbasin – Selbstreinigende und -desinfizierende Spülbecken für Küchen und Labore\nPräsentation AquaFly – Wassergewinnung aus der Luft für die Landwirtschaft\nPräsentation Findnlink – Onlineplattform für Projekte und Start-up Ideen\n\nNach jeder Präsentation besteht die Möglichkeit\, Fragen an die Gründerinnen und Gründer zu stellen. \nWir freuen uns auf Eure Teilnahme! Den Link zur Veranstaltung findet ihr hier: Zur Teilnahme hier klicken \nMeeting-ID: 641 6407 5910 Kenncode: iM3m*8xa40 \nVeranstalter sind die Start-up Region Ostwürttemberg sowie die Gründerzentren INNO-Z & AAccelerator Aalen\, in:it co-working lab Schwäbisch Gmünd und DOCK 33 Heidenheim. \n  \n
URL:https://www.startup-wow.de/event-termin/start-up-wow-connect-aus-aalen/
ATTACH;FMTTYPE=image/png:https://www.startup-wow.de/wp-content/uploads/2021/09/Start-up-WOW-Connect-LinkedIn.png
ORGANIZER;CN="INNO-Z%20Aalen":MAILTO:info@innoz-aalen.de
END:VEVENT
END:VCALENDAR