BEGIN:VCALENDAR
VERSION:2.0
PRODID:-//Start-up Ostwürttemberg - ECPv4.6.14.1//NONSGML v1.0//EN
CALSCALE:GREGORIAN
METHOD:PUBLISH
X-WR-CALNAME:Start-up Ostwürttemberg
X-ORIGINAL-URL:https://www.startup-wow.de
X-WR-CALDESC:Veranstaltungen für Start-up Ostwürttemberg
BEGIN:VEVENT
DTSTART;TZID=Europe/Berlin:20241205T170000
DTEND;TZID=Europe/Berlin:20241205T180000
DTSTAMP:20260420T083028
CREATED:20241030T150847Z
LAST-MODIFIED:20241030T150847Z
UID:4056-1733418000-1733421600@www.startup-wow.de
SUMMARY:Die Grundlagen der Einnahmenüberschussrechnung für Kleingewerbetreibende
DESCRIPTION:Wie unterscheiden sich Betriebseinnahmen bzw. Betriebsausgaben von Privateinlagen bzw. Privatentnahmen? Wer ist Kleinunternehmer im Sinne des Umsatzsteuergesetzes und wann liegt unberechtigter Umsatzsteuerausweis vor? \nDozent:\nWalter Klaiber\nFinanzamt Heidenheim \n
URL:https://www.startup-wow.de/event-termin/die-grundlagen-der-einnahmenueberschussrechnung-fuer-kleingewerbetreibende/
ATTACH;FMTTYPE=image/png:https://www.startup-wow.de/wp-content/uploads/2024/10/IHK-Jungunternehmerwoche-2024.png
ORGANIZER;CN="IHK%20Ostw%C3%BCrttemberg":MAILTO:zentrale@ostwuerttemberg.de
END:VEVENT
END:VCALENDAR