BEGIN:VCALENDAR
VERSION:2.0
PRODID:-//Start-up Ostwürttemberg - ECPv4.6.14.1//NONSGML v1.0//EN
CALSCALE:GREGORIAN
METHOD:PUBLISH
X-WR-CALNAME:Start-up Ostwürttemberg
X-ORIGINAL-URL:https://www.startup-wow.de
X-WR-CALDESC:Veranstaltungen für Start-up Ostwürttemberg
BEGIN:VEVENT
DTSTART;TZID=Europe/Berlin:20210923T100000
DTEND;TZID=Europe/Berlin:20210923T120000
DTSTAMP:20260421T181135
CREATED:20210409T065119Z
LAST-MODIFIED:20210409T065119Z
UID:2620-1632391200-1632398400@www.startup-wow.de
SUMMARY:Das 1x1 des Gründens (Teil 2): Der Businessplan
DESCRIPTION:Eine Existenzgründung ist ein Schritt in die berufliche Selbständigkeit\, der gut geplant und durchdacht werden sollte. Mit dem richtigen Konzept eröffnen sich ungeahnte Chancen und Möglichkeiten. Viele Aufgaben werden jedoch auch neu sein und Gründer können nur auf wenige Erfahrungswerte zurückgreifen. Für die IHK Ostwürttemberg ist es eine wichtige Aufgabe\, potenzielle Existenzgründer auch in Zeiten der Corona-Krise umfassend zu beraten und den Start in die Selbständigkeit zu begleiten.\nDazu bietet die IHK zwei aufeinander aufbauende kostenlose Online-Vorträge an. Die Online-Vorträge finden am 22. und 23. September 2021 um jeweils 10:00 Uhr statt und dauern ca. 2 Stunden. Im ersten Teil geht es um rechtliche Rahmenbedingungen\, im zweiten Teil um die Erstellung eines Businessplans. Im Mittelpunkt stehen die wichtigsten Fragen\, die sich potenzielle Existenzgründer stellen sollten.\nDen Einwahllink zur Internetseite\, auf der Sie den Online-Vortrag sehen können\, erhalten Sie 1 Tag vor der Veranstaltung. \n
URL:https://www.startup-wow.de/event-termin/das-1x1-des-gruendens-teil-2-der-businessplan-5/
ATTACH;FMTTYPE=image/jpeg:https://www.startup-wow.de/wp-content/uploads/2018/07/KeyVisual_IHK_VA_2.jpg
END:VEVENT
END:VCALENDAR